BEGIN:VCALENDAR
VERSION:2.0
PRODID:-//Laughter Mindset - ECPv6.15.13.1//NONSGML v1.0//EN
CALSCALE:GREGORIAN
METHOD:PUBLISH
X-WR-CALNAME:Laughter Mindset
X-ORIGINAL-URL:https://laughtermindset.com
X-WR-CALDESC:Events for Laughter Mindset
REFRESH-INTERVAL;VALUE=DURATION:PT1H
X-Robots-Tag:noindex
X-PUBLISHED-TTL:PT1H
BEGIN:VTIMEZONE
TZID:America/New_York
BEGIN:DAYLIGHT
TZOFFSETFROM:-0500
TZOFFSETTO:-0400
TZNAME:EDT
DTSTART:20180311T070000
END:DAYLIGHT
BEGIN:STANDARD
TZOFFSETFROM:-0400
TZOFFSETTO:-0500
TZNAME:EST
DTSTART:20181104T060000
END:STANDARD
BEGIN:DAYLIGHT
TZOFFSETFROM:-0500
TZOFFSETTO:-0400
TZNAME:EDT
DTSTART:20190310T070000
END:DAYLIGHT
BEGIN:STANDARD
TZOFFSETFROM:-0400
TZOFFSETTO:-0500
TZNAME:EST
DTSTART:20191103T060000
END:STANDARD
BEGIN:DAYLIGHT
TZOFFSETFROM:-0500
TZOFFSETTO:-0400
TZNAME:EDT
DTSTART:20200308T070000
END:DAYLIGHT
BEGIN:STANDARD
TZOFFSETFROM:-0400
TZOFFSETTO:-0500
TZNAME:EST
DTSTART:20201101T060000
END:STANDARD
END:VTIMEZONE
BEGIN:VEVENT
DTSTART;TZID=America/New_York:20190829T183000
DTEND;TZID=America/New_York:20190829T203000
DTSTAMP:20260423T152616
CREATED:20190825T172753Z
LAST-MODIFIED:20190825T173614Z
UID:117667-1567103400-1567110600@laughtermindset.com
SUMMARY:Let's Breathe and Laugh Orlando
DESCRIPTION:Details \nPrivate section is blocked off to all our members . \nThere will be bottled water and Cheese platter trays for each table . \nAgenda :-Meet & Great 15 min-Laughter Mindset Mission & Vision 5min-Laughter Nlp exercise 10 min-Energy Cleaning 10 min-Prizes for top 3 winners sharing funniest jokes of the night. 10min-Laughter Fitness Groucho walk exercise .10 minFrom 7.30pm to 8.15pmChocolate Museum and caféGuided TourLittle on :-Chocolate History-Chocolate Process-25 Chocolate Sculptures viewingIncluding one that is 7ft tall & close to 400 pounds.Save best for last 👇🏻😋 \nCHOCOLATE TASTING“ 7 different Chocolate Bars “ \n$35 per person$5 off 💫 For tickets purchased before 8/19. \nPrice includes :A Laughter Mindset mini ExperienceUsing NLP Techniques-Introduction to Laughter fitness Exercise-Sharing jokes and winning prizes-Cheese platter – bottled water -Chocolate Museum Tasting & Tour . \nYou can order food a la cart additional to what is provided . \nThere will be A photographer and a videographer taking pictures and recording event . \nPlease PM if you don’t wish to have your pics taken prior so we accommodate your request and arrange for that . \nLooking forward to meeting you in person \, this is going to be lots of fun and you will leave feeling lighter \, and with some new insights and a taste of the of Laughter Mindset Experience . \nThe earlier you book the more secure you seating is 😘 \n \nWear something comfortable and bring your happy self with you . \nTOGETHER WE CELEBRATE \,LAUGH LEARN \,THRIVE \,GROW AND GLOW!
URL:https://laughtermindset.com/event/lets-breathe-and-laugh-orlando/
LOCATION:World of Chocolate Museum & Cafe\, 11701 International Dr\, Suite 400\, Orlando\, FL\, 32821\, United States
CATEGORIES:Meetup
ORGANIZER;CN="Sofie Nubani":MAILTO:transcendence.care@gmail.com
END:VEVENT
END:VCALENDAR